BEGIN:VCALENDAR
VERSION:2.0
PRODID:-//Village of Greenwich - ECPv6.0.6.2//NONSGML v1.0//EN
CALSCALE:GREGORIAN
METHOD:PUBLISH
X-ORIGINAL-URL:https://villageofgreenwichny.gov
X-WR-CALDESC:Events for Village of Greenwich
REFRESH-INTERVAL;VALUE=DURATION:PT1H
X-Robots-Tag:noindex
X-PUBLISHED-TTL:PT1H
BEGIN:VTIMEZONE
TZID:America/New_York
BEGIN:DAYLIGHT
TZOFFSETFROM:-0500
TZOFFSETTO:-0400
TZNAME:EDT
DTSTART:20240310T070000
END:DAYLIGHT
BEGIN:STANDARD
TZOFFSETFROM:-0400
TZOFFSETTO:-0500
TZNAME:EST
DTSTART:20241103T060000
END:STANDARD
END:VTIMEZONE
BEGIN:VEVENT
DTSTART;TZID=America/New_York:20240501T183000
DTEND;TZID=America/New_York:20240501T193000
DTSTAMP:20260423T191639
CREATED:20240419T140734Z
LAST-MODIFIED:20240419T140734Z
UID:2375-1714588200-1714591800@villageofgreenwichny.gov
SUMMARY:ZBA Public Hearing Wednesday\, May 1 at 7pm - 126 Main St application from Flatley Read
DESCRIPTION:The ZBA will meet at the Community Center on May 1 at 7pm to hold a Public Hearing on 126 Main St in the Village of Greenwich. The Application by Flatley Read is for Site Plan Review\, Special Use Permit and Area Variance for the above property. The board may consider any other business brought before it.
URL:https://villageofgreenwichny.gov/event/zba-public-hearing-wednesday-may-1-at-7pm-126-main-st-application-from-flatley-read/
CATEGORIES:Public Hearing
END:VEVENT
END:VCALENDAR