BEGIN:VCALENDAR
VERSION:2.0
PRODID:-//Village of Greenwich - ECPv6.0.6.2//NONSGML v1.0//EN
CALSCALE:GREGORIAN
METHOD:PUBLISH
X-WR-CALNAME:Village of Greenwich
X-ORIGINAL-URL:https://villageofgreenwichny.gov
X-WR-CALDESC:Events for Village of Greenwich
REFRESH-INTERVAL;VALUE=DURATION:PT1H
X-Robots-Tag:noindex
X-PUBLISHED-TTL:PT1H
BEGIN:VTIMEZONE
TZID:America/New_York
BEGIN:DAYLIGHT
TZOFFSETFROM:-0500
TZOFFSETTO:-0400
TZNAME:EDT
DTSTART:20240310T070000
END:DAYLIGHT
BEGIN:STANDARD
TZOFFSETFROM:-0400
TZOFFSETTO:-0500
TZNAME:EST
DTSTART:20241103T060000
END:STANDARD
END:VTIMEZONE
BEGIN:VEVENT
DTSTART;TZID=America/New_York:20240613T190000
DTEND;TZID=America/New_York:20240613T200000
DTSTAMP:20260424T023942
CREATED:20240604T182613Z
LAST-MODIFIED:20240604T182613Z
UID:2458-1718305200-1718308800@villageofgreenwichny.gov
SUMMARY:Public Hearing ZBA ~ June 13 at 7:00pm Appeal for a Special Use Permit 200 Main
DESCRIPTION:Please take notice that a meeting of the Zoning Board of Appeals of the Village of Greenwich will be held on Thursday\, June 13 at 7:00 pm in the Board Room of the Community Center. This is a Public Hearing to consider the Appeal for a Special Use Permit for the property at 200 Main St in Greenwich. The Board reserves the right to hear any business brought before it.
URL:https://villageofgreenwichny.gov/event/public-hearing-zba-june-13-at-700pm-appeal-for-a-special-use-permit-200-main/
CATEGORIES:Public Hearing
END:VEVENT
END:VCALENDAR