BEGIN:VCALENDAR
VERSION:2.0
PRODID:-//Village of Greenwich - ECPv6.0.6.2//NONSGML v1.0//EN
CALSCALE:GREGORIAN
METHOD:PUBLISH
X-WR-CALNAME:Village of Greenwich
X-ORIGINAL-URL:https://villageofgreenwichny.gov
X-WR-CALDESC:Events for Village of Greenwich
REFRESH-INTERVAL;VALUE=DURATION:PT1H
X-Robots-Tag:noindex
X-PUBLISHED-TTL:PT1H
BEGIN:VTIMEZONE
TZID:America/New_York
BEGIN:DAYLIGHT
TZOFFSETFROM:-0500
TZOFFSETTO:-0400
TZNAME:EDT
DTSTART:20220313T070000
END:DAYLIGHT
BEGIN:STANDARD
TZOFFSETFROM:-0400
TZOFFSETTO:-0500
TZNAME:EST
DTSTART:20221106T060000
END:STANDARD
BEGIN:DAYLIGHT
TZOFFSETFROM:-0500
TZOFFSETTO:-0400
TZNAME:EDT
DTSTART:20230312T070000
END:DAYLIGHT
BEGIN:STANDARD
TZOFFSETFROM:-0400
TZOFFSETTO:-0500
TZNAME:EST
DTSTART:20231105T060000
END:STANDARD
END:VTIMEZONE
BEGIN:VEVENT
DTSTART;TZID=America/New_York:20230906T100000
DTEND;TZID=America/New_York:20230906T100000
DTSTAMP:20260420T091834
CREATED:20230901T141459Z
LAST-MODIFIED:20230901T141544Z
UID:2012-1693994400-1693994400@villageofgreenwichny.gov
SUMMARY:Special meeting Village Board of Trustees September 6
DESCRIPTION:A Special meeting of the Village Board of Trustees will meet at 10:00 am on September 6.
URL:https://villageofgreenwichny.gov/event/special-meeting-village-board-of-trustees-september-6/
LOCATION:NY
CATEGORIES:Meeting
END:VEVENT
BEGIN:VEVENT
DTSTART;TZID=America/New_York:20230718T190000
DTEND;TZID=America/New_York:20230718T200000
DTSTAMP:20260420T091834
CREATED:20230712T193323Z
LAST-MODIFIED:20230712T193446Z
UID:1954-1689706800-1689710400@villageofgreenwichny.gov
SUMMARY:Special Meeting and Public Hearing
DESCRIPTION:The Village Board of Trustees will hold a Public Hearing to consider allowing the use of video conferencing to accommodate extraordinary circumstances of Village Officials\, enabling participation in public meetings.
URL:https://villageofgreenwichny.gov/event/special-meeting-and-public-hearing/
LOCATION:NY
CATEGORIES:Meeting,Public Hearing
END:VEVENT
BEGIN:VEVENT
DTSTART;TZID=America/New_York:20230710T190000
DTEND;TZID=America/New_York:20230710T210000
DTSTAMP:20260420T091834
CREATED:20230403T190952Z
LAST-MODIFIED:20230403T190953Z
UID:1791-1689015600-1689022800@villageofgreenwichny.gov
SUMMARY:Monthly Board Meeting
DESCRIPTION:
URL:https://villageofgreenwichny.gov/event/monthly-board-meeting-38/
LOCATION:Village of Greewnich\, 6 Academy St\, Greenwich\, NY\, 12834\, United States
CATEGORIES:Meeting
END:VEVENT
BEGIN:VEVENT
DTSTART;TZID=America/New_York:20230612T190000
DTEND;TZID=America/New_York:20230612T210000
DTSTAMP:20260420T091834
CREATED:20230403T190012Z
LAST-MODIFIED:20230403T190014Z
UID:1789-1686596400-1686603600@villageofgreenwichny.gov
SUMMARY:Monthly Board Meeting
DESCRIPTION:
URL:https://villageofgreenwichny.gov/event/monthly-board-meeting-37/
LOCATION:Village of Greewnich\, 6 Academy St\, Greenwich\, NY\, 12834\, United States
CATEGORIES:Meeting
END:VEVENT
BEGIN:VEVENT
DTSTART;TZID=America/New_York:20230531T190000
DTEND;TZID=America/New_York:20230531T210000
DTSTAMP:20260420T091834
CREATED:20230403T185736Z
LAST-MODIFIED:20230403T185737Z
UID:1787-1685559600-1685566800@villageofgreenwichny.gov
SUMMARY:Special End-of-Year Board Meeting
DESCRIPTION:
URL:https://villageofgreenwichny.gov/event/special-end-of-year-board-meeting-2/
LOCATION:NY
CATEGORIES:Meeting
END:VEVENT
BEGIN:VEVENT
DTSTART;TZID=America/New_York:20230508T190000
DTEND;TZID=America/New_York:20230508T210000
DTSTAMP:20260420T091834
CREATED:20230403T184638Z
LAST-MODIFIED:20230403T184639Z
UID:1785-1683572400-1683579600@villageofgreenwichny.gov
SUMMARY:Monthly Board Meeting
DESCRIPTION:
URL:https://villageofgreenwichny.gov/event/monthly-board-meeting-36/
LOCATION:NY
CATEGORIES:Meeting
END:VEVENT
BEGIN:VEVENT
DTSTART;TZID=America/New_York:20230502T183000
DTEND;TZID=America/New_York:20230502T193000
DTSTAMP:20260420T091834
CREATED:20230426T165547Z
LAST-MODIFIED:20230426T165547Z
UID:1852-1683052200-1683055800@villageofgreenwichny.gov
SUMMARY:Board of Trustees ~ Special Meeting
DESCRIPTION:
URL:https://villageofgreenwichny.gov/event/board-of-trustees-special-meeting-4/
LOCATION:Village of Greenwich Offices\, 6 Academy Street\, Greenwich\, 12834\, United States
CATEGORIES:Meeting
END:VEVENT
BEGIN:VEVENT
DTSTART;TZID=America/New_York:20230417T183000
DTEND;TZID=America/New_York:20230417T203000
DTSTAMP:20260420T091834
CREATED:20230411T191612Z
LAST-MODIFIED:20230411T191612Z
UID:1802-1681756200-1681763400@villageofgreenwichny.gov
SUMMARY:Special Meeting - Village Board of Trustees
DESCRIPTION:
URL:https://villageofgreenwichny.gov/event/special-meeting-village-board-of-trustees/
LOCATION:NY
CATEGORIES:Meeting
END:VEVENT
BEGIN:VEVENT
DTSTART;TZID=America/New_York:20230328T183000
DTEND;TZID=America/New_York:20230328T200000
DTSTAMP:20260420T091834
CREATED:20230324T131618Z
LAST-MODIFIED:20230324T131618Z
UID:1765-1680028200-1680033600@villageofgreenwichny.gov
SUMMARY:Special Budget Workshop - Village Board of Trustees
DESCRIPTION:Special meeting of the Board of Trustees to discuss 2023/2024 budget. The workshop will take place in the Board Room at 6 Academy St. starting at 6:30pm.
URL:https://villageofgreenwichny.gov/event/special-budget-workshop-village-board-of-trustees/
LOCATION:Village of Greewnich\, 6 Academy St\, Greenwich\, NY\, 12834\, United States
CATEGORIES:Meeting
END:VEVENT
BEGIN:VEVENT
DTSTART;TZID=America/New_York:20230306T183000
DTEND;TZID=America/New_York:20230306T183000
DTSTAMP:20260420T091834
CREATED:20230301T203715Z
LAST-MODIFIED:20230301T203737Z
UID:1743-1678127400-1678127400@villageofgreenwichny.gov
SUMMARY:Budget Workshop for the 2023/2024 Fiscal Year
DESCRIPTION:The Board of Trustees will meet at the Village Hall at 6:30. The public is invited to attend.
URL:https://villageofgreenwichny.gov/event/budget-workshop-for-the-2023-2024-fiscal-year/
LOCATION:Village of Greewnich\, 6 Academy St\, Greenwich\, NY\, 12834\, United States
CATEGORIES:Meeting
END:VEVENT
BEGIN:VEVENT
DTSTART;TZID=America/New_York:20230227T183000
DTEND;TZID=America/New_York:20230227T200000
DTSTAMP:20260420T091834
CREATED:20230224T153526Z
LAST-MODIFIED:20230224T153526Z
UID:1729-1677522600-1677528000@villageofgreenwichny.gov
SUMMARY:Budget Workshop ~ Village Board Meeting
DESCRIPTION:Board of Trustee Budget Workshop Meeting to discuss 2023-2024 fiscal year. Community Center 6:30pm.
URL:https://villageofgreenwichny.gov/event/budget-workshop-village-board-meeting/
LOCATION:Village of Greewnich\, 6 Academy St\, Greenwich\, NY\, 12834\, United States
CATEGORIES:Meeting
END:VEVENT
BEGIN:VEVENT
DTSTART;TZID=America/New_York:20230109T190000
DTEND;TZID=America/New_York:20230109T210000
DTSTAMP:20260420T091834
CREATED:20221219T155142Z
LAST-MODIFIED:20230106T160654Z
UID:1664-1673290800-1673298000@villageofgreenwichny.gov
SUMMARY:Monthly Board Meeting and Public Hearing
DESCRIPTION:7:00 PM  \nPublic Hearing – Restore NY Round 7 – Property Assessment List 49-53 Main St
URL:https://villageofgreenwichny.gov/event/monthly-board-meeting-30/
LOCATION:NY
CATEGORIES:Meeting,Public Hearing
END:VEVENT
BEGIN:VEVENT
DTSTART;TZID=America/New_York:20221212T190000
DTEND;TZID=America/New_York:20221212T190000
DTSTAMP:20260420T091834
CREATED:20211217T174446Z
LAST-MODIFIED:20211217T174446Z
UID:1088-1670871600-1670871600@villageofgreenwichny.gov
SUMMARY:Monthly Board Meeting
DESCRIPTION:
URL:https://villageofgreenwichny.gov/event/monthly-board-meeting-29/
LOCATION:NY
CATEGORIES:Meeting
END:VEVENT
BEGIN:VEVENT
DTSTART;TZID=America/New_York:20221115T050000
DTEND;TZID=America/New_York:20221115T190000
DTSTAMP:20260420T091834
CREATED:20221101T132404Z
LAST-MODIFIED:20221101T132759Z
UID:1566-1668488400-1668538800@villageofgreenwichny.gov
SUMMARY:Greenwich Comprehensive Plan Update Public Event
DESCRIPTION:The Town and Village of Greenwich are in the process of updating their comprehensive plan to reflect recently completed neighborhood plans and current conditions\, issues\, and opportunities. We want to hear from you! \nGreenwichPublicEventFlyer_1025
URL:https://villageofgreenwichny.gov/event/greenwich-comprehensive-plan-update-public-event/
LOCATION:Greenwich Elementary School Gym
CATEGORIES:Event,Meeting
END:VEVENT
BEGIN:VEVENT
DTSTART;TZID=America/New_York:20221114T190000
DTEND;TZID=America/New_York:20221114T190000
DTSTAMP:20260420T091834
CREATED:20211217T174433Z
LAST-MODIFIED:20211217T174433Z
UID:1086-1668452400-1668452400@villageofgreenwichny.gov
SUMMARY:Monthly Board Meeting
DESCRIPTION:
URL:https://villageofgreenwichny.gov/event/monthly-board-meeting-28/
LOCATION:NY
CATEGORIES:Meeting
END:VEVENT
BEGIN:VEVENT
DTSTART;TZID=America/New_York:20221109T190000
DTEND;TZID=America/New_York:20221109T200000
DTSTAMP:20260420T091834
CREATED:20221104T155934Z
LAST-MODIFIED:20221104T155934Z
UID:1577-1668020400-1668024000@villageofgreenwichny.gov
SUMMARY:Special Meeting ~ November 9
DESCRIPTION:A Special Meeting of the Board of Trustees of the Village of Greenwich will be held on Wednesday\, November 9\, 2022 at 7:00pm at 6 Academy Street\, Greenwich\, New York\, to hear a presentation of the Forestry Management Plan.
URL:https://villageofgreenwichny.gov/event/special-meeting-november-9/
LOCATION:NY
CATEGORIES:Meeting
END:VEVENT
BEGIN:VEVENT
DTSTART;TZID=America/New_York:20221020T183000
DTEND;TZID=America/New_York:20221020T190000
DTSTAMP:20260420T091834
CREATED:20221017T173433Z
LAST-MODIFIED:20221017T182910Z
UID:1542-1666290600-1666292400@villageofgreenwichny.gov
SUMMARY:Board of Trustees ~ Special Meeting
DESCRIPTION:The Board of Trustees will hold a Special Meeting on Thursday\, October 20th at 6:30pm in the Board Room at 6 Academy St for the purpose of purchasing a new DPW vehicle.
URL:https://villageofgreenwichny.gov/event/board-of-trustees-special-meeting-3/
LOCATION:NY
CATEGORIES:Meeting
END:VEVENT
BEGIN:VEVENT
DTSTART;TZID=America/New_York:20221006T190000
DTEND;TZID=America/New_York:20221006T200000
DTSTAMP:20260420T091834
CREATED:20221004T150027Z
LAST-MODIFIED:20221004T150516Z
UID:1521-1665082800-1665086400@villageofgreenwichny.gov
SUMMARY:ZBA Meeting October 6 ~7:00pm
DESCRIPTION:ZBA Meeting 10.6.22
URL:https://villageofgreenwichny.gov/event/zba-meeting-october-6-700pm/
LOCATION:NY
CATEGORIES:Meeting
END:VEVENT
BEGIN:VEVENT
DTSTART;TZID=America/New_York:20221003T190000
DTEND;TZID=America/New_York:20221003T190000
DTSTAMP:20260420T091834
CREATED:20211217T174420Z
LAST-MODIFIED:20220922T185643Z
UID:1084-1664823600-1664823600@villageofgreenwichny.gov
SUMMARY:Monthly Board Meeting and Public Hearing Restore NY Application
DESCRIPTION:NOTICE OF PUBLIC HEARING AND PROPERTY ASSESSMENT LIST \nRESTORE NY ROUND 6 APPLICATION \nVillage of Greenwich \n  \n  \nPLEASE TAKE NOTICE that the Village of Greenwich will be applying for grant funding from the RESTORE NY round 6 program administered by the Empire State Development Corporation. RESTORE NY funds can be used to demolish\, deconstruct\, rehabilitate and/or reconstruct vacant\, abandoned\, condemned and surplus properties. A Public Hearing will be held on October 3\, 2022 at 7 p.m. at the Village Hall\, 6 Academy Street\, Greenwich\, NY regarding the application and the Village of Greenwich properties designated for funding as outlined in the Property Assessment List below: \nSite                                                                                         Size (sq. ft)            Building Type                                       Project Type                                         Building Category \n118 Main Street                                  2\,990                           Comm.                                     Rehabilitation              Vacant \n124 Main Street                                  9\,000                           Comm./Res.                            Reconstruction                        Abandoned \n132 Main Street                                  5\,400                           Comm.                                    Rehabilitation              Vacant \n  \nComments on the application and the Property Assessment List can be presented at the hearing or submitted in writing prior to the hearing and directed to Jane Dowling\, Village Clerk\, 6 Academy Street\, Greenwich\, NY 12834. \n 
URL:https://villageofgreenwichny.gov/event/monthly-board-meeting-27/
LOCATION:NY
CATEGORIES:Meeting
END:VEVENT
BEGIN:VEVENT
DTSTART;TZID=America/New_York:20220919T190000
DTEND;TZID=America/New_York:20220919T210000
DTSTAMP:20260420T091834
CREATED:20220912T193601Z
LAST-MODIFIED:20220915T131428Z
UID:1482-1663614000-1663621200@villageofgreenwichny.gov
SUMMARY:Public Meeting to Discuss Thunder Mountain Forestry Project ~ New Location
DESCRIPTION:Join us for more information on the Thunder Mountain Forestry Project. New location: Village of Greenwich Fire Department ~ 60 Hill St.
URL:https://villageofgreenwichny.gov/event/public-meeting-to-discuss-thunder-mountain-forestry-project/
LOCATION:Fire Department\, 60 Hill St\, Greenwich\, NY\, 12834\, United States
CATEGORIES:Meeting
END:VEVENT
BEGIN:VEVENT
DTSTART;TZID=America/New_York:20220912T190000
DTEND;TZID=America/New_York:20220912T190000
DTSTAMP:20260420T091834
CREATED:20211217T174408Z
LAST-MODIFIED:20211217T174408Z
UID:1082-1663009200-1663009200@villageofgreenwichny.gov
SUMMARY:Monthly Board Meeting
DESCRIPTION:
URL:https://villageofgreenwichny.gov/event/monthly-board-meeting-26/
LOCATION:NY
CATEGORIES:Meeting
END:VEVENT
BEGIN:VEVENT
DTSTART;TZID=America/New_York:20220815T180000
DTEND;TZID=America/New_York:20220815T180000
DTSTAMP:20260420T091834
CREATED:20220811T135745Z
LAST-MODIFIED:20220811T135745Z
UID:1456-1660586400-1660586400@villageofgreenwichny.gov
SUMMARY:Board of Trustees Special Meeting
DESCRIPTION:The Village Board of Trustees will discuss the Thunder Mountain Forestry Project and any other business brought before it.
URL:https://villageofgreenwichny.gov/event/board-of-trustees-special-meeting-2/
LOCATION:Village of Greewnich\, 6 Academy St\, Greenwich\, NY\, 12834\, United States
CATEGORIES:Meeting
END:VEVENT
BEGIN:VEVENT
DTSTART;TZID=America/New_York:20220811T190000
DTEND;TZID=America/New_York:20220811T200000
DTSTAMP:20260420T091834
CREATED:20220811T135143Z
LAST-MODIFIED:20220811T135143Z
UID:1453-1660244400-1660248000@villageofgreenwichny.gov
SUMMARY:ZBA Meeting
DESCRIPTION:ZBA Meeting to discuss beer garden expansion at 1 Main Street.
URL:https://villageofgreenwichny.gov/event/zba-meeting-4/
LOCATION:NY
CATEGORIES:Meeting
END:VEVENT
BEGIN:VEVENT
DTSTART;TZID=America/New_York:20220808T190000
DTEND;TZID=America/New_York:20220808T190000
DTSTAMP:20260420T091834
CREATED:20211217T174355Z
LAST-MODIFIED:20211217T174355Z
UID:1080-1659985200-1659985200@villageofgreenwichny.gov
SUMMARY:Monthly Board Meeting
DESCRIPTION:
URL:https://villageofgreenwichny.gov/event/monthly-board-meeting-25/
LOCATION:NY
CATEGORIES:Meeting
END:VEVENT
BEGIN:VEVENT
DTSTART;TZID=America/New_York:20220711T190000
DTEND;TZID=America/New_York:20220711T190000
DTSTAMP:20260420T091834
CREATED:20211217T174330Z
LAST-MODIFIED:20211217T174330Z
UID:1078-1657566000-1657566000@villageofgreenwichny.gov
SUMMARY:Monthly Board Meeting
DESCRIPTION:
URL:https://villageofgreenwichny.gov/event/monthly-board-meeting-24/
LOCATION:NY
CATEGORIES:Meeting
END:VEVENT
BEGIN:VEVENT
DTSTART;TZID=America/New_York:20220613T190000
DTEND;TZID=America/New_York:20220613T190000
DTSTAMP:20260420T091834
CREATED:20211217T174318Z
LAST-MODIFIED:20220610T125045Z
UID:1076-1655146800-1655146800@villageofgreenwichny.gov
SUMMARY:Monthly Board Meeting will be held at the TOWN OFFICE June 13th only
DESCRIPTION:
URL:https://villageofgreenwichny.gov/event/monthly-board-meeting-23/
LOCATION:NY
CATEGORIES:Meeting
END:VEVENT
BEGIN:VEVENT
DTSTART;TZID=America/New_York:20220531T190000
DTEND;TZID=America/New_York:20220531T190000
DTSTAMP:20260420T091834
CREATED:20211217T174306Z
LAST-MODIFIED:20220511T171051Z
UID:1074-1654023600-1654023600@villageofgreenwichny.gov
SUMMARY:Special Board Meeting
DESCRIPTION:
URL:https://villageofgreenwichny.gov/event/monthly-board-meeting-22/
LOCATION:NY
CATEGORIES:Meeting
END:VEVENT
BEGIN:VEVENT
DTSTART;TZID=America/New_York:20220531T183000
DTEND;TZID=America/New_York:20220531T200000
DTSTAMP:20260420T091834
CREATED:20220502T140406Z
LAST-MODIFIED:20220502T140406Z
UID:1356-1654021800-1654027200@villageofgreenwichny.gov
SUMMARY:Special End-of-Year Board Meeting
DESCRIPTION:The Village Board of Trustees will hold a Special Meeting on May 31 at 6:30pm in the Village Hall\, 6 Academy St for the purpose of end-of-year business.
URL:https://villageofgreenwichny.gov/event/special-end-of-year-board-meeting/
LOCATION:NY
CATEGORIES:Meeting
END:VEVENT
BEGIN:VEVENT
DTSTART;TZID=America/New_York:20220509T190000
DTEND;TZID=America/New_York:20220509T190000
DTSTAMP:20260420T091834
CREATED:20211217T174248Z
LAST-MODIFIED:20211217T174248Z
UID:1072-1652122800-1652122800@villageofgreenwichny.gov
SUMMARY:Monthly Board Meeting
DESCRIPTION:
URL:https://villageofgreenwichny.gov/event/monthly-board-meeting-21/
LOCATION:NY
CATEGORIES:Meeting
END:VEVENT
BEGIN:VEVENT
DTSTART;TZID=America/New_York:20220425T183000
DTEND;TZID=America/New_York:20220425T183000
DTSTAMP:20260420T091834
CREATED:20220418T162542Z
LAST-MODIFIED:20220418T162841Z
UID:1300-1650911400-1650911400@villageofgreenwichny.gov
SUMMARY:Board of Trustees Special Meeting
DESCRIPTION:Special Village of Greenwich Board of Trustee Meeting \nNotice is hereby given\, that the Board of Trustees of the Village of Greenwich has made an estimate of the amount necessary to be raised by Tax upon the property of the Village of Greenwich for the fiscal year beginning June 1\, 2022\, and that Special Meeting will be held on April 25\, 2022 at 6:30pm for the purpose of adopting said budget. \nThe budget is available for inspection during business hours at the Clerk’s Office at 6 Academy St.\, Greenwich\, NY.
URL:https://villageofgreenwichny.gov/event/board-of-trustees-special-meeting/
LOCATION:NY
CATEGORIES:Meeting
END:VEVENT
END:VCALENDAR