BEGIN:VCALENDAR
VERSION:2.0
PRODID:-//Village of Greenwich - ECPv6.0.6.2//NONSGML v1.0//EN
CALSCALE:GREGORIAN
METHOD:PUBLISH
X-ORIGINAL-URL:https://villageofgreenwichny.gov
X-WR-CALDESC:Events for Village of Greenwich
REFRESH-INTERVAL;VALUE=DURATION:PT1H
X-Robots-Tag:noindex
X-PUBLISHED-TTL:PT1H
BEGIN:VTIMEZONE
TZID:America/New_York
BEGIN:DAYLIGHT
TZOFFSETFROM:-0500
TZOFFSETTO:-0400
TZNAME:EDT
DTSTART:20240310T070000
END:DAYLIGHT
BEGIN:STANDARD
TZOFFSETFROM:-0400
TZOFFSETTO:-0500
TZNAME:EST
DTSTART:20241103T060000
END:STANDARD
END:VTIMEZONE
BEGIN:VEVENT
DTSTART;TZID=America/New_York:20240909T190000
DTEND;TZID=America/New_York:20240909T210000
DTSTAMP:20260422T072324
CREATED:20231228T175008Z
LAST-MODIFIED:20240828T182140Z
UID:2145-1725908400-1725915600@villageofgreenwichny.gov
SUMMARY:Regular Meeting of the Village Board of Trustees ~ September 9\, 2024 Public Hearings on Franchise Agreement and Animal Control Law. Water rate increase will also be discussed.
DESCRIPTION:The Regular Meeting of the Village Board of Trustees will meet on September 9 at 7:00pm in the Board Room of the Community Center at 6 Academy St\, Greenwich. \n7:30 pm  Public Hearing on Charter Communications Franchise Agreement \n7:40 pm Public Hearing on Animal Control Law
URL:https://villageofgreenwichny.gov/event/regular-meeting-of-the-village-board-of-trustees-september-9-2024/
LOCATION:Village of Greewnich\, 6 Academy St\, Greenwich\, NY\, 12834\, United States
CATEGORIES:Meeting,Public Hearing
END:VEVENT
END:VCALENDAR