BEGIN:VCALENDAR
VERSION:2.0
PRODID:-//Village of Greenwich - ECPv6.0.6.2//NONSGML v1.0//EN
CALSCALE:GREGORIAN
METHOD:PUBLISH
X-ORIGINAL-URL:https://villageofgreenwichny.gov
X-WR-CALDESC:Events for Village of Greenwich
REFRESH-INTERVAL;VALUE=DURATION:PT1H
X-Robots-Tag:noindex
X-PUBLISHED-TTL:PT1H
BEGIN:VTIMEZONE
TZID:America/New_York
BEGIN:DAYLIGHT
TZOFFSETFROM:-0500
TZOFFSETTO:-0400
TZNAME:EDT
DTSTART:20240310T070000
END:DAYLIGHT
BEGIN:STANDARD
TZOFFSETFROM:-0400
TZOFFSETTO:-0500
TZNAME:EST
DTSTART:20241103T060000
END:STANDARD
END:VTIMEZONE
BEGIN:VEVENT
DTSTART;TZID=America/New_York:20240423T190000
DTEND;TZID=America/New_York:20240423T200000
DTSTAMP:20260423T115344
CREATED:20240419T132239Z
LAST-MODIFIED:20240419T132239Z
UID:2365-1713898800-1713902400@villageofgreenwichny.gov
SUMMARY:Special Meeting of the Village Board ~ Budget Workshop
DESCRIPTION:The Village Board of Trustees will hold a Special Budget Workshop on 4/23/2024 at 7:00pm at the Village Hall\, 6 Academy St. The Board may address any other business brought before it. \nJoin Zoom Meeting\nhttps://us06web.zoom.us/j/89415406335?pwd=36b5CyUUIegG2ocaNyfZzFfUWLHS5F.1  \nMeeting ID: 894 1540 6335\nPasscode: 075795 \nDial by your location\n• +1 929 205 6099 US (New York) \n 
URL:https://villageofgreenwichny.gov/event/special-meeting-of-the-village-board-budget-workshop/
CATEGORIES:Meeting
END:VEVENT
END:VCALENDAR