BEGIN:VCALENDAR
VERSION:2.0
PRODID:-//Village of Greenwich - ECPv6.0.6.2//NONSGML v1.0//EN
CALSCALE:GREGORIAN
METHOD:PUBLISH
X-WR-CALNAME:Village of Greenwich
X-ORIGINAL-URL:https://villageofgreenwichny.gov
X-WR-CALDESC:Events for Village of Greenwich
REFRESH-INTERVAL;VALUE=DURATION:PT1H
X-Robots-Tag:noindex
X-PUBLISHED-TTL:PT1H
BEGIN:VTIMEZONE
TZID:America/New_York
BEGIN:DAYLIGHT
TZOFFSETFROM:-0500
TZOFFSETTO:-0400
TZNAME:EDT
DTSTART:20240310T070000
END:DAYLIGHT
BEGIN:STANDARD
TZOFFSETFROM:-0400
TZOFFSETTO:-0500
TZNAME:EST
DTSTART:20241103T060000
END:STANDARD
END:VTIMEZONE
BEGIN:VEVENT
DTSTART;TZID=America/New_York:20240328T190000
DTEND;TZID=America/New_York:20240328T203000
DTSTAMP:20260423T231529
CREATED:20240324T170537Z
LAST-MODIFIED:20240325T122519Z
UID:2298-1711652400-1711657800@villageofgreenwichny.gov
SUMMARY:Water Pipe Replacement Project is About to Begin! Info Meeting March 28 ~ GCS Auditorium
DESCRIPTION:Construction will begin on or about April 1st. This project will affect some streets\, sidewalks and trees. Where will the crews be working and how will it affect you? \nAnswers to these and other questions will be answered at a public meeting on March 28\, 2024 in the High School Auditorium at 7pm.
URL:https://villageofgreenwichny.gov/event/water-pipe-replacement-project-is-about-to-begin-info-meeting-march-28-gcs-auditorium/
CATEGORIES:Meeting
END:VEVENT
END:VCALENDAR