BEGIN:VCALENDAR
VERSION:2.0
PRODID:-//Village of Greenwich - ECPv6.0.6.2//NONSGML v1.0//EN
CALSCALE:GREGORIAN
METHOD:PUBLISH
X-ORIGINAL-URL:https://villageofgreenwichny.gov
X-WR-CALDESC:Events for Village of Greenwich
REFRESH-INTERVAL;VALUE=DURATION:PT1H
X-Robots-Tag:noindex
X-PUBLISHED-TTL:PT1H
BEGIN:VTIMEZONE
TZID:America/New_York
BEGIN:DAYLIGHT
TZOFFSETFROM:-0500
TZOFFSETTO:-0400
TZNAME:EDT
DTSTART:20240310T070000
END:DAYLIGHT
BEGIN:STANDARD
TZOFFSETFROM:-0400
TZOFFSETTO:-0500
TZNAME:EST
DTSTART:20241103T060000
END:STANDARD
END:VTIMEZONE
BEGIN:VEVENT
DTSTART;TZID=America/New_York:20240311T190000
DTEND;TZID=America/New_York:20240311T210000
DTSTAMP:20260423T174815
CREATED:20231228T170843Z
LAST-MODIFIED:20240305T152350Z
UID:2133-1710183600-1710190800@villageofgreenwichny.gov
SUMMARY:Regular Meeting and Public Hearings ~ March 11\, 2024 ~ Board of Trustees
DESCRIPTION:The Regular Meeting of the Village Board of Trustees will meet on March 11 at 7:00pm in the Board Room of the Community Center at 6 Academy St\, Greenwich. \nA Public Hearing will be held by the Board of Trustees of the Village of Greenwich on March 11\, 2024 at 7:30pm\, at the Village Hall\, to adopt a proposed local law amending; “The Village of Greenwich Land Subdivision Regulations” adopted on September 27\, 1971. \nA Public Hearing will be held by the Board of Trustees of the Village of Greenwich on March 11\, 2024 at 7:45pm\, at the Village Hall\, to adopt a proposed local law authorizing the Village of Greenwich to override the property tax levy limit for the fiscal year commencing June 1st\, 2024 pursuant to subdivision 5 of General Municipal Law Section 3-c. \nJoin Zoom Meeting\nhttps://us06web.zoom.us/j/2886631100?pwd=OHdDbnUxL1I5WVAyWVZUUklOb3pLUT09&omn=82944111764 \nMeeting ID: 288 663 1100\nPasscode: 919707 \nDial by your location\n• +1 646 931 3860 US\n• +1 929 205 6099 US (New York) \n 
URL:https://villageofgreenwichny.gov/event/regular-meeting-of-the-village-board-of-trustees-march-11-2024/
CATEGORIES:Meeting
END:VEVENT
END:VCALENDAR