BEGIN:VCALENDAR
VERSION:2.0
PRODID:-//Village of Greenwich - ECPv6.0.6.2//NONSGML v1.0//EN
CALSCALE:GREGORIAN
METHOD:PUBLISH
X-WR-CALNAME:Village of Greenwich
X-ORIGINAL-URL:https://villageofgreenwichny.gov
X-WR-CALDESC:Events for Village of Greenwich
REFRESH-INTERVAL;VALUE=DURATION:PT1H
X-Robots-Tag:noindex
X-PUBLISHED-TTL:PT1H
BEGIN:VTIMEZONE
TZID:America/New_York
BEGIN:DAYLIGHT
TZOFFSETFROM:-0500
TZOFFSETTO:-0400
TZNAME:EDT
DTSTART:20240310T070000
END:DAYLIGHT
BEGIN:STANDARD
TZOFFSETFROM:-0400
TZOFFSETTO:-0500
TZNAME:EST
DTSTART:20241103T060000
END:STANDARD
END:VTIMEZONE
BEGIN:VEVENT
DTSTART;TZID=America/New_York:20240307T180000
DTEND;TZID=America/New_York:20240307T193000
DTSTAMP:20260424T054048
CREATED:20240222T153000Z
LAST-MODIFIED:20240222T153000Z
UID:2229-1709834400-1709839800@villageofgreenwichny.gov
SUMMARY:March 7 ~ Special Meeting of the Board of Trustees ~ Budget Workshop
DESCRIPTION:The Village Board will meet at 6:00pm at 6 Academy St to hold a Budget Workshop to discuss the 2024/2025 Village budget.
URL:https://villageofgreenwichny.gov/event/march-7-special-meeting-of-the-board-of-trustees-budget-workshop/
LOCATION:Village of Greenwich Offices\, 6 Academy Street\, Greenwich\, 12834\, United States
CATEGORIES:Meeting
END:VEVENT
END:VCALENDAR