BEGIN:VCALENDAR
VERSION:2.0
PRODID:-//Village of Greenwich - ECPv6.0.6.2//NONSGML v1.0//EN
CALSCALE:GREGORIAN
METHOD:PUBLISH
X-ORIGINAL-URL:https://villageofgreenwichny.gov
X-WR-CALDESC:Events for Village of Greenwich
REFRESH-INTERVAL;VALUE=DURATION:PT1H
X-Robots-Tag:noindex
X-PUBLISHED-TTL:PT1H
BEGIN:VTIMEZONE
TZID:America/New_York
BEGIN:DAYLIGHT
TZOFFSETFROM:-0500
TZOFFSETTO:-0400
TZNAME:EDT
DTSTART:20240310T070000
END:DAYLIGHT
BEGIN:STANDARD
TZOFFSETFROM:-0400
TZOFFSETTO:-0500
TZNAME:EST
DTSTART:20241103T060000
END:STANDARD
END:VTIMEZONE
BEGIN:VEVENT
DTSTART;TZID=America/New_York:20240117T190000
DTEND;TZID=America/New_York:20240117T210000
DTSTAMP:20260424T213759
CREATED:20240108T182859Z
LAST-MODIFIED:20240108T184455Z
UID:2162-1705518000-1705525200@villageofgreenwichny.gov
SUMMARY:Regular Meeting of the Village Board January 17
DESCRIPTION:The Village Board of Trustees will meet January 17\, 2024 at 7pm in the Board Room of the Community Center\, 6 Academy St. \nJoin Zoom Meeting\nhttps://us06web.zoom.us/j/83142739490?pwd=kqpldx3Sr2Jm7oidnuz4RB8iZigbHB.1  \nMeeting ID: 831 4273 9490\nPasscode: 923130 \n929 205 6099 US (New York) \n  \n 
URL:https://villageofgreenwichny.gov/event/regular-meeting-of-the-village-board/
CATEGORIES:Meeting
END:VEVENT
END:VCALENDAR