BEGIN:VCALENDAR
VERSION:2.0
PRODID:-//Village of Greenwich - ECPv6.0.6.2//NONSGML v1.0//EN
CALSCALE:GREGORIAN
METHOD:PUBLISH
X-WR-CALNAME:Village of Greenwich
X-ORIGINAL-URL:https://villageofgreenwichny.gov
X-WR-CALDESC:Events for Village of Greenwich
REFRESH-INTERVAL;VALUE=DURATION:PT1H
X-Robots-Tag:noindex
X-PUBLISHED-TTL:PT1H
BEGIN:VTIMEZONE
TZID:America/New_York
BEGIN:DAYLIGHT
TZOFFSETFROM:-0500
TZOFFSETTO:-0400
TZNAME:EDT
DTSTART:20250309T070000
END:DAYLIGHT
BEGIN:STANDARD
TZOFFSETFROM:-0400
TZOFFSETTO:-0500
TZNAME:EST
DTSTART:20251102T060000
END:STANDARD
END:VTIMEZONE
BEGIN:VEVENT
DTSTART;TZID=America/New_York:20250414T190000
DTEND;TZID=America/New_York:20250414T210000
DTSTAMP:20260420T214137
CREATED:20241224T170848Z
LAST-MODIFIED:20250401T194045Z
UID:2660-1744657200-1744664400@villageofgreenwichny.gov
SUMMARY:Regular / Organizational Board Meeting ~ Monday\, April 14\, 2025 @ 7:00pm ~ Public Hearing on 2025/2026 Budget
DESCRIPTION:The Village Board of Trustees will meet at 7pm in the Board Room at the Community Center\, 6 Academy St\, Greenwich\, NY. The Public Hearing on the budget will begin at 7pm. Organizational will follow the Public Hearing.
URL:https://villageofgreenwichny.gov/event/regular-board-meeting-monday-april-14-2025-700pm/
LOCATION:Village of Greenwich Offices\, 6 Academy Street\, Greenwich\, 12834\, United States
CATEGORIES:Meeting,Public Hearing
END:VEVENT
BEGIN:VEVENT
DTSTART;TZID=America/New_York:20250416T180000
DTEND;TZID=America/New_York:20250416T193000
DTSTAMP:20260420T214137
CREATED:20250408T192144Z
LAST-MODIFIED:20250408T192144Z
UID:2797-1744826400-1744831800@villageofgreenwichny.gov
SUMMARY:ZBA Public Hearing and Meeting ~ April 16 at 6:00pm
DESCRIPTION: Public Hearing on 25 Eddy St – Subdivision Application \nSketch Plan Review on 73 Main St – Special Use Permit \n  \nPlease take notice that a Public Hearing of the Zoning Board of Appeals of the Village of Greenwich will be held on Wednesday\, April 16th at 6:00 pm in the Board Room of the Community Center. This is a Public Hearing to consider the Application of Steve Townsend for a Subdivision Application for 25 Eddy Street in the Village of Greenwich. The Board will also Review the Sketch Plan for 73 Main Street conversion to residential and professional use. The board reserves the right to consider any business brought before it. \n 
URL:https://villageofgreenwichny.gov/event/zba-public-hearing-and-meeting-april-16-at-600pm/
CATEGORIES:Meeting,Public Hearing
END:VEVENT
BEGIN:VEVENT
DTSTART;TZID=America/New_York:20250422T180000
DTEND;TZID=America/New_York:20250422T190000
DTSTAMP:20260420T214137
CREATED:20250415T192607Z
LAST-MODIFIED:20250415T192607Z
UID:2802-1745344800-1745348400@villageofgreenwichny.gov
SUMMARY:Special Board Meeting - 2025/2026 Budget Adoption
DESCRIPTION:The Board of Trustees will meet in the Board Room at the Community Center at 6 Academy St at 6pm to make final changes and adopt the 2025/2026 Budget.
URL:https://villageofgreenwichny.gov/event/special-board-meeting-2025-2026-budget-adoption/
CATEGORIES:Meeting
END:VEVENT
END:VCALENDAR