BEGIN:VCALENDAR
VERSION:2.0
PRODID:-//Village of Greenwich - ECPv6.0.6.2//NONSGML v1.0//EN
CALSCALE:GREGORIAN
METHOD:PUBLISH
X-WR-CALNAME:Village of Greenwich
X-ORIGINAL-URL:https://villageofgreenwichny.gov
X-WR-CALDESC:Events for Village of Greenwich
REFRESH-INTERVAL;VALUE=DURATION:PT1H
X-Robots-Tag:noindex
X-PUBLISHED-TTL:PT1H
BEGIN:VTIMEZONE
TZID:America/New_York
BEGIN:DAYLIGHT
TZOFFSETFROM:-0500
TZOFFSETTO:-0400
TZNAME:EDT
DTSTART:20240310T070000
END:DAYLIGHT
BEGIN:STANDARD
TZOFFSETFROM:-0400
TZOFFSETTO:-0500
TZNAME:EST
DTSTART:20241103T060000
END:STANDARD
END:VTIMEZONE
BEGIN:VEVENT
DTSTART;TZID=America/New_York:20240812T190000
DTEND;TZID=America/New_York:20240812T210000
DTSTAMP:20260422T213524
CREATED:20231228T174803Z
LAST-MODIFIED:20240812T140458Z
UID:2143-1723489200-1723496400@villageofgreenwichny.gov
SUMMARY:Regular Meeting and Public Hearing of the Village Board of Trustees ~ August 12\, 2024
DESCRIPTION:The Regular Meeting of the Village Board of Trustees will meet on August 12 at 7:00pm in the Board Room of the Community Center at 6 Academy St\, Greenwich. \nThere will be a Public Hearing at 7:30pm on Animal Control Law Revisions.
URL:https://villageofgreenwichny.gov/event/regular-meeting-of-the-village-board-of-trustees-august-12-2024/
LOCATION:Village of Greewnich\, 6 Academy St\, Greenwich\, NY\, 12834\, United States
CATEGORIES:Meeting,Public Hearing
END:VEVENT
END:VCALENDAR