BEGIN:VCALENDAR
VERSION:2.0
PRODID:-//Village of Greenwich - ECPv6.0.6.2//NONSGML v1.0//EN
CALSCALE:GREGORIAN
METHOD:PUBLISH
X-ORIGINAL-URL:https://villageofgreenwichny.gov
X-WR-CALDESC:Events for Village of Greenwich
REFRESH-INTERVAL;VALUE=DURATION:PT1H
X-Robots-Tag:noindex
X-PUBLISHED-TTL:PT1H
BEGIN:VTIMEZONE
TZID:America/New_York
BEGIN:DAYLIGHT
TZOFFSETFROM:-0500
TZOFFSETTO:-0400
TZNAME:EDT
DTSTART:20240310T070000
END:DAYLIGHT
BEGIN:STANDARD
TZOFFSETFROM:-0400
TZOFFSETTO:-0500
TZNAME:EST
DTSTART:20241103T060000
END:STANDARD
END:VTIMEZONE
BEGIN:VEVENT
DTSTART;TZID=America/New_York:20240610T190000
DTEND;TZID=America/New_York:20240610T210000
DTSTAMP:20260422T234147
CREATED:20231228T172532Z
LAST-MODIFIED:20231228T172532Z
UID:2139-1718046000-1718053200@villageofgreenwichny.gov
SUMMARY:Regular Meeting of the Village Board of Trustees ~ June 10\, 2024
DESCRIPTION:The Regular Meeting of the Village Board of Trustees will meet on June 10 at 7:00pm in the Board Room of the Community Center at 6 Academy St\, Greenwich.
URL:https://villageofgreenwichny.gov/event/regular-meeting-of-the-village-board-of-trustees-june-10-2024/
LOCATION:Village of Greewnich\, 6 Academy St\, Greenwich\, NY\, 12834\, United States
CATEGORIES:Meeting
END:VEVENT
END:VCALENDAR