BEGIN:VCALENDAR
VERSION:2.0
PRODID:-//Village of Greenwich - ECPv6.0.6.2//NONSGML v1.0//EN
CALSCALE:GREGORIAN
METHOD:PUBLISH
X-ORIGINAL-URL:https://villageofgreenwichny.gov
X-WR-CALDESC:Events for Village of Greenwich
REFRESH-INTERVAL;VALUE=DURATION:PT1H
X-Robots-Tag:noindex
X-PUBLISHED-TTL:PT1H
BEGIN:VTIMEZONE
TZID:America/New_York
BEGIN:DAYLIGHT
TZOFFSETFROM:-0500
TZOFFSETTO:-0400
TZNAME:EDT
DTSTART:20240310T070000
END:DAYLIGHT
BEGIN:STANDARD
TZOFFSETFROM:-0400
TZOFFSETTO:-0500
TZNAME:EST
DTSTART:20241103T060000
END:STANDARD
END:VTIMEZONE
BEGIN:VEVENT
DTSTART;TZID=America/New_York:20240401T190000
DTEND;TZID=America/New_York:20240401T200000
DTSTAMP:20260423T070947
CREATED:20240327T181909Z
LAST-MODIFIED:20240329T144404Z
UID:2306-1711998000-1712001600@villageofgreenwichny.gov
SUMMARY:April 1\, 2024 ~Special Meeting of the Village Board - Organizational Meeting
DESCRIPTION:The Village Board of Trustees will meet on April 1\, 2024 at 7pm in the Village Hall\, for the purpose of the Annual Organizational Meeting and any other business which may be brought before it. \nJoin Zoom Meeting\nhttps://us06web.zoom.us/j/89548262356?pwd=BzX2ORS8A94tN7HtWkHmybqcLtZaWH.1 \nMeeting ID: 895 4826 2356\nPasscode: 657008 \nOne tap mobile\n+19292056099\,\,89548262356#\,\,\,\,*657008# US (New York) \n  \n  \n 
URL:https://villageofgreenwichny.gov/event/april-1-2024-special-meeting-of-the-village-board-organizational-meeting/
CATEGORIES:Meeting
END:VEVENT
BEGIN:VEVENT
DTSTART;TZID=America/New_York:20240415T190000
DTEND;TZID=America/New_York:20240415T210000
DTSTAMP:20260423T070947
CREATED:20240402T193932Z
LAST-MODIFIED:20240402T193932Z
UID:2338-1713207600-1713214800@villageofgreenwichny.gov
SUMMARY:Regular Meeting of the Village Board of Trustees and Public Hearing on the Tentative 2024/2025 Budget
DESCRIPTION:NOTICE OF PUBLIC HEARING ON 2024/2025 TENTATIVE BUDGET 7:00pm \nNotice is hereby given\, that the Board of Trustees of the Village of Greenwich has made an estimate of the amount necessary to be raised by Tax upon the property of the Village of Greenwich for the fiscal year beginning June 1\, 2024\, and that a Public Hearing upon such budget will be held on April 15\, 2024 for the purpose of hearing any objections to said tentative budget or recommendation for additions thereto in connection therewith. \nThe tentative 2024/2025 budget is available for inspection during business hours at the Clerk’s Office at 6 Academy St.\, Greenwich\, NY. \nJoin Zoom Meeting\nhttps://us06web.zoom.us/j/85604785793?pwd=lY79WekWYbD9NTFkiWcY8PlNoyjwA7.1 \nMeeting ID: 856 0478 5793\nPasscode: 784931 \n— \nOne tap mobile\n+19292056099\,\,85604785793#\,\,\,\,*784931# US (New York)
URL:https://villageofgreenwichny.gov/event/regular-meeting-of-the-village-board-of-trustees-and-public-hearing-on-the-tentative-2024-2025-budget/
CATEGORIES:Meeting,Public Hearing
END:VEVENT
BEGIN:VEVENT
DTSTART;TZID=America/New_York:20240423T190000
DTEND;TZID=America/New_York:20240423T200000
DTSTAMP:20260423T070947
CREATED:20240419T132239Z
LAST-MODIFIED:20240419T132239Z
UID:2365-1713898800-1713902400@villageofgreenwichny.gov
SUMMARY:Special Meeting of the Village Board ~ Budget Workshop
DESCRIPTION:The Village Board of Trustees will hold a Special Budget Workshop on 4/23/2024 at 7:00pm at the Village Hall\, 6 Academy St. The Board may address any other business brought before it. \nJoin Zoom Meeting\nhttps://us06web.zoom.us/j/89415406335?pwd=36b5CyUUIegG2ocaNyfZzFfUWLHS5F.1  \nMeeting ID: 894 1540 6335\nPasscode: 075795 \nDial by your location\n• +1 929 205 6099 US (New York) \n 
URL:https://villageofgreenwichny.gov/event/special-meeting-of-the-village-board-budget-workshop/
CATEGORIES:Meeting
END:VEVENT
BEGIN:VEVENT
DTSTART;TZID=America/New_York:20240429T183000
DTEND;TZID=America/New_York:20240429T193000
DTSTAMP:20260423T070947
CREATED:20240419T135518Z
LAST-MODIFIED:20240419T135518Z
UID:2372-1714415400-1714419000@villageofgreenwichny.gov
SUMMARY:ZBA Meeting April 29th at 6:30pm to consider Special Use Permit for 4 Washington Square
DESCRIPTION:The ZBA will meet at the Community Center on April 29 at 6:30pm to consider the application of a Special Use Permit from Michelle DeGarmo for 4 Washington Square. The board may consider any other business brought before it.
URL:https://villageofgreenwichny.gov/event/zba-meeting-april-29th-at-630pm-to-consider-special-use-permit-for-4-washington-square/
CATEGORIES:Meeting
END:VEVENT
BEGIN:VEVENT
DTSTART;TZID=America/New_York:20240430T180000
DTEND;TZID=America/New_York:20240430T190000
DTSTAMP:20260423T070947
CREATED:20240419T133239Z
LAST-MODIFIED:20240419T133239Z
UID:2368-1714500000-1714503600@villageofgreenwichny.gov
SUMMARY:Special Meeting of the Village Board to adopt the 2024/2025 budget
DESCRIPTION:The Village Board of Trustees Will meet at the Village Hall at 6 Academy St at 6pm to adopt the 2024/2025 Village Budget. All are welcome to attend in person or via zoom. The Board reserves the right to address any other business brought before it. \nJoin Zoom Meeting\nhttps://us06web.zoom.us/j/81038062388?pwd=KbeAOS3ZCN0qphM9ket2VeZ5jaddK8.1 \nMeeting ID: 810 3806 2388\nPasscode: 040032 \n• +1 929 205 6099 US (New York) \n  \n 
URL:https://villageofgreenwichny.gov/event/special-meeting-of-the-village-board-to-adopt-the-2024-2025-budget/
CATEGORIES:Meeting
END:VEVENT
END:VCALENDAR