BEGIN:VCALENDAR
VERSION:2.0
PRODID:-//Village of Greenwich - ECPv6.0.6.2//NONSGML v1.0//EN
CALSCALE:GREGORIAN
METHOD:PUBLISH
X-WR-CALNAME:Village of Greenwich
X-ORIGINAL-URL:https://villageofgreenwichny.gov
X-WR-CALDESC:Events for Village of Greenwich
REFRESH-INTERVAL;VALUE=DURATION:PT1H
X-Robots-Tag:noindex
X-PUBLISHED-TTL:PT1H
BEGIN:VTIMEZONE
TZID:America/New_York
BEGIN:DAYLIGHT
TZOFFSETFROM:-0500
TZOFFSETTO:-0400
TZNAME:EDT
DTSTART:20240310T070000
END:DAYLIGHT
BEGIN:STANDARD
TZOFFSETFROM:-0400
TZOFFSETTO:-0500
TZNAME:EST
DTSTART:20241103T060000
END:STANDARD
END:VTIMEZONE
BEGIN:VEVENT
DTSTART;TZID=America/New_York:20240205T180000
DTEND;TZID=America/New_York:20240205T180000
DTSTAMP:20260424T114904
CREATED:20240130T144159Z
LAST-MODIFIED:20240130T144906Z
UID:2200-1707156000-1707156000@villageofgreenwichny.gov
SUMMARY:Special Board Meeting - February 5th at 6pm
DESCRIPTION:The Village Board of Trustees will hold a Special Meeting at 6pm on February 5 in the Board Room at the Community Center\, 6 Academy St. \nJoin Zoom Meeting\nhttps://us06web.zoom.us/j/88257395383?pwd=4yyGacVDbEG5NLgIZ5BkWH7BQ8vFWm.1  \nMeeting ID: 882 5739 5383\nPasscode: 130150 \n— \nOne tap mobile\n+19292056099\,\,88257395383#\,\,\,\,*130150# US (New York) \n  \n  \n  \n 
URL:https://villageofgreenwichny.gov/event/special-board-meeting-february-5th-at-6pm/
CATEGORIES:Meeting
END:VEVENT
BEGIN:VEVENT
DTSTART;TZID=America/New_York:20240212T190000
DTEND;TZID=America/New_York:20240212T210000
DTSTAMP:20260424T114904
CREATED:20231228T170157Z
LAST-MODIFIED:20240206T210228Z
UID:2131-1707764400-1707771600@villageofgreenwichny.gov
SUMMARY:Village Board Meeting ~ February12\, 2024
DESCRIPTION:The Regular Meeting of the Village Board of Trustees will meet on February 12 at 7:00pm in the Board Room of the Community Center at 6 Academy St\, Greenwich. \nTopic: Village Board Meeting\nTime: Feb 12\, 2024 07:00 PM Eastern Time (US and Canada) \nJoin Zoom Meeting\nhttps://us06web.zoom.us/j/87028435773?pwd=Ttdg4gJws4oq1Rs54xu4Xt567I8UBU.1  \nMeeting ID: 870 2843 5773\nPasscode: 805328 \n— \nOne tap mobile\n+19292056099\,\,87028435773#\,\,\,\,*805328# US (New York) \n  \n 
URL:https://villageofgreenwichny.gov/event/village-board-meeting-february12-2024/
LOCATION:Village of Greewnich\, 6 Academy St\, Greenwich\, NY\, 12834\, United States
CATEGORIES:Meeting
END:VEVENT
BEGIN:VEVENT
DTSTART;TZID=America/New_York:20240222T180000
DTEND;TZID=America/New_York:20240222T193000
DTSTAMP:20260424T114904
CREATED:20240213T202948Z
LAST-MODIFIED:20240213T202948Z
UID:2222-1708624800-1708630200@villageofgreenwichny.gov
SUMMARY:Special Meeting of the Village Board - Budget Workshop - February 22
DESCRIPTION:The Village Board of Trustees will meet February 22 at 6:00pm for a Special Budget Workshop to discuss the 2024/2025 Village budget.
URL:https://villageofgreenwichny.gov/event/special-meeting-of-the-village-board-budget-workshop-february-22/
CATEGORIES:Meeting
END:VEVENT
END:VCALENDAR