BEGIN:VCALENDAR
VERSION:2.0
PRODID:-//Village of Greenwich - ECPv6.0.6.2//NONSGML v1.0//EN
CALSCALE:GREGORIAN
METHOD:PUBLISH
X-WR-CALNAME:Village of Greenwich
X-ORIGINAL-URL:https://villageofgreenwichny.gov
X-WR-CALDESC:Events for Village of Greenwich
REFRESH-INTERVAL;VALUE=DURATION:PT1H
X-Robots-Tag:noindex
X-PUBLISHED-TTL:PT1H
BEGIN:VTIMEZONE
TZID:America/New_York
BEGIN:DAYLIGHT
TZOFFSETFROM:-0500
TZOFFSETTO:-0400
TZNAME:EDT
DTSTART:20230312T070000
END:DAYLIGHT
BEGIN:STANDARD
TZOFFSETFROM:-0400
TZOFFSETTO:-0500
TZNAME:EST
DTSTART:20231105T060000
END:STANDARD
END:VTIMEZONE
BEGIN:VEVENT
DTSTART;TZID=America/New_York:20231101T183000
DTEND;TZID=America/New_York:20231101T200000
DTSTAMP:20260425T160220
CREATED:20231005T184005Z
LAST-MODIFIED:20231005T184900Z
UID:2041-1698863400-1698868800@villageofgreenwichny.gov
SUMMARY:Village and Town first BOA pre-development committee meeting Wednesday November 1 @ 6:30pm
DESCRIPTION:Town and Village of Greenwich \nNotice of First BOA Pre-Development Committee Meeting \nNOTICE IS HEREBY GIVEN that the Greenwich BOA Pre-Development Committee will hold a meeting on Wednesday\, November 1\, 2023 at 6:30 pm at the Greenwich Town Hall\, 2 Academy Street\, Greenwich\, NY 12834. \nIn 2022\, the Town of Greenwich\, with the Village of Greenwich\, was awarded $166\,500 from the New York State Department of State (DOS) to complete key recommendations from the 2022 Greenwich Revitalization Plan\, including zoning updates and water and sewer engineering and assessments. \nJoin Zoom Meeting\nhttps://us02web.zoom.us/j/86808808766?pwd=M0NseVpQQlpKWmwrYlRIUVRhd3pNUT09 \nMeeting ID: 868 0880 8766\nPasscode: 185665
URL:https://villageofgreenwichny.gov/event/village-and-town-first-boa-pre-development-committee-meeting-wednesday-november-1-630pm/
CATEGORIES:Meeting
END:VEVENT
BEGIN:VEVENT
DTSTART;TZID=America/New_York:20231113T190000
DTEND;TZID=America/New_York:20231113T210000
DTSTAMP:20260425T160220
CREATED:20221219T160306Z
LAST-MODIFIED:20231108T174811Z
UID:1670-1699902000-1699909200@villageofgreenwichny.gov
SUMMARY:Monthly Board Meeting
DESCRIPTION:November Board Meeting will be held in person at 6 academy St and via videoconference. \nTopic: November Board Meeting\nTime: Nov 13\, 2023 07:00 PM Eastern Time (US and Canada) \nJoin Zoom Meeting\nhttps://us06web.zoom.us/j/86959708041?pwd=eWN0YDqgOveW1gC1aEe0KvOJv78sBk.1 \nMeeting ID: 869 5970 8041\nPasscode: 784285 \nDial by your location\n929 205 6099 US (New York)
URL:https://villageofgreenwichny.gov/event/monthly-board-meeting-33/
CATEGORIES:Meeting,Public Hearing
END:VEVENT
BEGIN:VEVENT
DTSTART;TZID=America/New_York:20231120T190000
DTEND;TZID=America/New_York:20231120T200000
DTSTAMP:20260425T160220
CREATED:20231114T205608Z
LAST-MODIFIED:20231114T205608Z
UID:2091-1700506800-1700510400@villageofgreenwichny.gov
SUMMARY:Special Meeting Village Board of Trustees November 20th
DESCRIPTION:Special Meeting – Monday\, November 20\, 2023 \n  \nPlease take notice that a Special Meeting of the Board of Trustees of the Village of Greenwich will be held on Monday\, November 20\, 2023 at 7:00 pm in the Board Room at 6 Academy Street\, Greenwich\, NY to discuss the TAP Grant RFQ. The Board reserves the right to address any other business that comes before them. \nTo join by zoom \nhttps://us06web.zoom.us/j/81532474764?pwd=hIe4FzdcSheZiTweRyb996bT50ULmP.1  \nMeeting ID: 815 3247 4764\nPasscode: 661515 \n  \n 
URL:https://villageofgreenwichny.gov/event/special-meeting-village-board-of-trustees-november-20th/
CATEGORIES:Meeting
END:VEVENT
END:VCALENDAR