BEGIN:VCALENDAR
VERSION:2.0
PRODID:-//Village of Greenwich - ECPv6.0.6.2//NONSGML v1.0//EN
CALSCALE:GREGORIAN
METHOD:PUBLISH
X-WR-CALNAME:Village of Greenwich
X-ORIGINAL-URL:https://villageofgreenwichny.gov
X-WR-CALDESC:Events for Village of Greenwich
REFRESH-INTERVAL;VALUE=DURATION:PT1H
X-Robots-Tag:noindex
X-PUBLISHED-TTL:PT1H
BEGIN:VTIMEZONE
TZID:America/New_York
BEGIN:DAYLIGHT
TZOFFSETFROM:-0500
TZOFFSETTO:-0400
TZNAME:EDT
DTSTART:20230312T070000
END:DAYLIGHT
BEGIN:STANDARD
TZOFFSETFROM:-0400
TZOFFSETTO:-0500
TZNAME:EST
DTSTART:20231105T060000
END:STANDARD
END:VTIMEZONE
BEGIN:VEVENT
DTSTART;TZID=America/New_York:20231002T190000
DTEND;TZID=America/New_York:20231002T210000
DTSTAMP:20260425T203656
CREATED:20230403T191910Z
LAST-MODIFIED:20230925T165306Z
UID:1795-1696273200-1696280400@villageofgreenwichny.gov
SUMMARY:Monthly Board Meeting
DESCRIPTION:This meeting will be held in-person at 6 Academy St. and over zoom -Topic: Village Board Meeting\nTime: Oct 2\, 2023 07:00 PM Eastern Time (US and Canada) \nJoin Zoom Meeting\nhttps://us06web.zoom.us/j/85084604147?pwd=yiwh7NTQ1fDFIwI5bUUMmafpz5aMnL.1  \nMeeting ID: 850 8460 4147\nPasscode: 911177 \nDial by your location\n• +1 929 205 6099 US (New York) \n 
URL:https://villageofgreenwichny.gov/event/monthly-board-meeting-40/
LOCATION:Village of Greenwich Offices\, 6 Academy Street\, Greenwich\, 12834\, United States
CATEGORIES:Meeting
END:VEVENT
BEGIN:VEVENT
DTSTART;TZID=America/New_York:20231023T180000
DTEND;TZID=America/New_York:20231023T200000
DTSTAMP:20260425T203656
CREATED:20231018T181828Z
LAST-MODIFIED:20231018T181942Z
UID:2061-1698084000-1698091200@villageofgreenwichny.gov
SUMMARY:Special Meeting of the Board of Trustees
DESCRIPTION:Please take notice that a Special Meeting of the Board of Trustees of the Village of Greenwich will be held on Monday\, October 23\, 2023 at 6:00pm at 6 Academy Street\, Greenwich\, NY to discuss the Water Improvement Project. The Board reserves the right to address any other business that comes before them. \nTo join by zoom \nhttps://us06web.zoom.us/j/86187225894?pwd=H0MPvW46ZGk0EaKp8yx7a5enbj1pOf.1 \nMeeting ID: 861 8722 5894 \nPasscode: 889166 \n 
URL:https://villageofgreenwichny.gov/event/special-meeting-of-the-board-of-trustees/
CATEGORIES:Meeting
END:VEVENT
END:VCALENDAR