BEGIN:VCALENDAR
VERSION:2.0
PRODID:-//Village of Greenwich - ECPv6.0.6.2//NONSGML v1.0//EN
CALSCALE:GREGORIAN
METHOD:PUBLISH
X-WR-CALNAME:Village of Greenwich
X-ORIGINAL-URL:https://villageofgreenwichny.gov
X-WR-CALDESC:Events for Village of Greenwich
REFRESH-INTERVAL;VALUE=DURATION:PT1H
X-Robots-Tag:noindex
X-PUBLISHED-TTL:PT1H
BEGIN:VTIMEZONE
TZID:America/New_York
BEGIN:DAYLIGHT
TZOFFSETFROM:-0500
TZOFFSETTO:-0400
TZNAME:EDT
DTSTART:20200308T070000
END:DAYLIGHT
BEGIN:STANDARD
TZOFFSETFROM:-0400
TZOFFSETTO:-0500
TZNAME:EST
DTSTART:20201101T060000
END:STANDARD
BEGIN:DAYLIGHT
TZOFFSETFROM:-0500
TZOFFSETTO:-0400
TZNAME:EDT
DTSTART:20210314T070000
END:DAYLIGHT
BEGIN:STANDARD
TZOFFSETFROM:-0400
TZOFFSETTO:-0500
TZNAME:EST
DTSTART:20211107T060000
END:STANDARD
BEGIN:DAYLIGHT
TZOFFSETFROM:-0500
TZOFFSETTO:-0400
TZNAME:EDT
DTSTART:20220313T070000
END:DAYLIGHT
BEGIN:STANDARD
TZOFFSETFROM:-0400
TZOFFSETTO:-0500
TZNAME:EST
DTSTART:20221106T060000
END:STANDARD
BEGIN:DAYLIGHT
TZOFFSETFROM:-0500
TZOFFSETTO:-0400
TZNAME:EDT
DTSTART:20230312T070000
END:DAYLIGHT
BEGIN:STANDARD
TZOFFSETFROM:-0400
TZOFFSETTO:-0500
TZNAME:EST
DTSTART:20231105T060000
END:STANDARD
BEGIN:DAYLIGHT
TZOFFSETFROM:-0500
TZOFFSETTO:-0400
TZNAME:EDT
DTSTART:20240310T070000
END:DAYLIGHT
BEGIN:STANDARD
TZOFFSETFROM:-0400
TZOFFSETTO:-0500
TZNAME:EST
DTSTART:20241103T060000
END:STANDARD
BEGIN:DAYLIGHT
TZOFFSETFROM:-0500
TZOFFSETTO:-0400
TZNAME:EDT
DTSTART:20250309T070000
END:DAYLIGHT
BEGIN:STANDARD
TZOFFSETFROM:-0400
TZOFFSETTO:-0500
TZNAME:EST
DTSTART:20251102T060000
END:STANDARD
END:VTIMEZONE
BEGIN:VEVENT
DTSTART;TZID=America/New_York:20251124T180000
DTEND;TZID=America/New_York:20251124T190000
DTSTAMP:20260420T084936
CREATED:20251119T145128Z
LAST-MODIFIED:20251119T145128Z
UID:2975-1764007200-1764010800@villageofgreenwichny.gov
SUMMARY:ZBA Meeting November 24\, 2025 @ 6:00pm ~ lot line adjustment
DESCRIPTION:The ZBA of the village of Greenwich will meet at 600pm on Monday\, November 24 in the Board Room at the Community Center for a sketch plan review for the purpose of a lot line adjustment at 5 Cable Street. All are welcome to attend.
URL:https://villageofgreenwichny.gov/event/zba-meeting-november-24-2025-600pm-lot-line-adjustment/
CATEGORIES:Event,Meeting,Public Notice
END:VEVENT
BEGIN:VEVENT
DTSTART;TZID=America/New_York:20251026T210000
DTEND;TZID=America/New_York:20251027T050000
DTSTAMP:20260420T084936
CREATED:20251020T154427Z
LAST-MODIFIED:20251020T154427Z
UID:2950-1761512400-1761541200@villageofgreenwichny.gov
SUMMARY:Hydrant Flushing October 26 and 27
DESCRIPTION: \n \n \n \n \n \n\n\nVillage of Greenwich DPW Will Begin\n\n\n \n\n\n\n\n \n\n\nHYDRANT FLUSHING\n\n\n \n\n\n\n\n \n\n\nFire Hydrants Will Be Flushed\n\n\nat night\n\n\nSunday into Monday October 26\n\n\n Monday into Tuesday October 27\n\n\n9:00 PM to 5:00 AM\n\n\n \n\n\n\n\n \n\n\nDiscoloration and a reduction in pressure may\n\n\nexist.  All residents are urged to check water\n\n\nbefore cooking or doing laundry and to flush\n\n\nhot water tanks after flushing is completed.\n\n\n \n\n\n\n\n \n\n\n \nMike Smith\, Supt. Of Public Works\n \n\n\n \n \n \n \n \n 
URL:https://villageofgreenwichny.gov/event/hydrant-flushing-october-26-and-27/
CATEGORIES:Event
END:VEVENT
BEGIN:VEVENT
DTSTART;TZID=America/New_York:20250522T080000
DTEND;TZID=America/New_York:20250522T170000
DTSTAMP:20260420T084936
CREATED:20250522T144734Z
LAST-MODIFIED:20250522T145056Z
UID:2865-1747900800-1747933200@villageofgreenwichny.gov
SUMMARY:VFW Memorial Day Parade will be held Friday at 6:00pm starting at the Brian Buell Bridge
DESCRIPTION:Road closures will begin at 5:45 and will reopen after the parade passes. The parade ends at the VFW on Abeel Avenue.
URL:https://villageofgreenwichny.gov/event/vfw-memorial-day-parade-will-be-held-friday-at-600pm-starting-at-the-brian-buell-bridge/
CATEGORIES:Event
END:VEVENT
BEGIN:VEVENT
DTSTART;TZID=America/New_York:20250511T210000
DTEND;TZID=America/New_York:20250513T040000
DTSTAMP:20260420T084936
CREATED:20250505T154415Z
LAST-MODIFIED:20250505T154654Z
UID:2833-1746997200-1747108800@villageofgreenwichny.gov
SUMMARY:Hydrant Flushing Announcement~
DESCRIPTION:Village of Greenwich DPW hydrant 2025rev
URL:https://villageofgreenwichny.gov/event/hydrant-flushing-announcement/
CATEGORIES:Event
END:VEVENT
BEGIN:VEVENT
DTSTART;TZID=America/New_York:20231029T130000
DTEND;TZID=America/New_York:20231029T150000
DTSTAMP:20260420T084936
CREATED:20231026T140322Z
LAST-MODIFIED:20231026T140322Z
UID:2068-1698584400-1698591600@villageofgreenwichny.gov
SUMMARY:32nd Annual Halloween Parade - Sunday\, October 29\, 2023
DESCRIPTION:The Greater Greenwich Chamber of Commerce will hold its 32nd Annual Halloween Parade presented by Greenwich Ford on Sunday\, October 29\, 2023 in the Village of Greenwich. This community event has been a beloved tradition for over three decades\, drawing crowds of children and adult participants\, with many others lining Main Street to watch. It is truly a fun-filled afternoon for Greenwich and surrounding communities to celebrate Halloween and the fall season.\nParticipants will gather at 1:00pm at the corner of Washington Street and Main Street. The parade will march north along Main Street\, left onto Academy Street\, and end at the parking lot of the Town of Greenwich building where judging will take place. Children must be accompanied by an adult.\nThis year’s Halloween Parade is made possible by title sponsor Greenwich Ford\, Crawford Island Art\, Greenwich Lions Club\, and Hollingsworth & Vose.\nAll children receive a treat bag and a participant ribbon for being in the parade. Judging will take place in five categories: The Best Dressed Pet\, The Most Original\, The Funniest\, The Scariest\, and The Best Group/Family. Best in Parade will be chosen as the winner of the $100 prize.\nThe Greater Greenwich Chamber of Commerce\, based in southern Washington County\, is a not-for-profit membership association established in 1990 that provides resources\, advocacy\, and support for member businesses and organizations. \nSee less\nhttps://www.facebook.com/events/858148665891109?acontext=%7B%22event_action_history%22%3A[]%7D
URL:https://villageofgreenwichny.gov/event/32nd-annual-halloween-parade-sunday-october-29-2023/
CATEGORIES:Event
END:VEVENT
BEGIN:VEVENT
DTSTART;TZID=America/New_York:20230513T140000
DTEND;TZID=America/New_York:20230513T160000
DTSTAMP:20260420T084936
CREATED:20230425T164932Z
LAST-MODIFIED:20230425T170208Z
UID:1835-1683986400-1683993600@villageofgreenwichny.gov
SUMMARY:Comprehensive Plan Public Workshop
DESCRIPTION:Greenwich Comprehensive Plan Flyer 5 13 23\nPress Release - 5.13.23 Greenwich Comp Event
URL:https://villageofgreenwichny.gov/event/comprehensive-plan-public-workshop/
LOCATION:Hudson River Park\, 5149 County Route 113\, Greenwich\, New York\, 12834
CATEGORIES:Event
END:VEVENT
BEGIN:VEVENT
DTSTART;TZID=America/New_York:20230430T210000
DTEND;TZID=America/New_York:20230501T050000
DTSTAMP:20260420T084936
CREATED:20230424T170954Z
LAST-MODIFIED:20230424T185620Z
UID:1830-1682888400-1682917200@villageofgreenwichny.gov
SUMMARY:Hydrant Flushing ~ April 30th and May 1st
DESCRIPTION:The Village of Greenwich DPW will be \nFlushing Hydrants \nApril 30th and May 1st \n9:00 pm – 5:00 am \nSome discoloration and low water pressure may result. \nAll water customers are urged to check water before using for cooking or doing laundry. \nFlushing water tanks is recommended after work is completed.
URL:https://villageofgreenwichny.gov/event/hydrant-flushing-april-30th-and-may-1st/
CATEGORIES:Event
END:VEVENT
BEGIN:VEVENT
DTSTART;TZID=America/New_York:20230321T120000
DTEND;TZID=America/New_York:20230321T210000
DTSTAMP:20260420T084936
CREATED:20230306T172952Z
LAST-MODIFIED:20230306T172952Z
UID:1754-1679400000-1679432400@villageofgreenwichny.gov
SUMMARY:Village Election Day - March 21 - Polls open noon-9pm
DESCRIPTION:Village of Greenwich  \nSpecial Election  \nMarch 21st  \n6 Academy St \nPolls open noon – 9:00pm \nOffices to be filled – One Trustee – remainder of term 2023-2024 (1 year) \nCandidates Running: \nWilly Grimmke ~ Liv Thygesen \n  \n  \n 
URL:https://villageofgreenwichny.gov/event/village-election-day-march-21-polls-open-noon-9pm/
CATEGORIES:Event
END:VEVENT
BEGIN:VEVENT
DTSTART;TZID=America/New_York:20221115T050000
DTEND;TZID=America/New_York:20221115T190000
DTSTAMP:20260420T084936
CREATED:20221101T132404Z
LAST-MODIFIED:20221101T132759Z
UID:1566-1668488400-1668538800@villageofgreenwichny.gov
SUMMARY:Greenwich Comprehensive Plan Update Public Event
DESCRIPTION:The Town and Village of Greenwich are in the process of updating their comprehensive plan to reflect recently completed neighborhood plans and current conditions\, issues\, and opportunities. We want to hear from you! \nGreenwichPublicEventFlyer_1025
URL:https://villageofgreenwichny.gov/event/greenwich-comprehensive-plan-update-public-event/
LOCATION:Greenwich Elementary School Gym
CATEGORIES:Event,Meeting
END:VEVENT
BEGIN:VEVENT
DTSTART;TZID=America/New_York:20220924T130000
DTEND;TZID=America/New_York:20220924T150000
DTSTAMP:20260420T084936
CREATED:20220922T133251Z
LAST-MODIFIED:20220922T133251Z
UID:1501-1664024400-1664031600@villageofgreenwichny.gov
SUMMARY:Thunder Mountain Walk With Jim Allen ~ Saturday 1:00pm
DESCRIPTION:The public is invited to tour Thunder Mountain with Forrester Jim Allen. Meeting at the parking area at 1:00pm.
URL:https://villageofgreenwichny.gov/event/thunder-mountain-walk-with-jim-allen-saturday-100pm/
LOCATION:Thunder Mountain
CATEGORIES:Event
END:VEVENT
BEGIN:VEVENT
DTSTART;TZID=America/New_York:20220709T083000
DTEND;TZID=America/New_York:20220709T153000
DTSTAMP:20260420T084936
CREATED:20220622T153900Z
LAST-MODIFIED:20220622T153900Z
UID:1420-1657355400-1657380600@villageofgreenwichny.gov
SUMMARY:Drive-Thru Rabies Clinic in Cambridge \, July 9th
DESCRIPTION:http://www.washingtoncountyny.gov/civicalerts.aspx?AID=1160
URL:https://villageofgreenwichny.gov/event/drive-thru-rabies-clinic-in-cambridge-july-9th/
LOCATION:Cambridge DPW Garage\, 6 Memorial Drive\, Cambridge\, NY\, 12816\, United States
CATEGORIES:Event
END:VEVENT
BEGIN:VEVENT
DTSTART;TZID=America/New_York:20220528T120000
DTEND;TZID=America/New_York:20220528T170000
DTSTAMP:20260420T084936
CREATED:20220516T194632Z
LAST-MODIFIED:20220516T194838Z
UID:1383-1653739200-1653757200@villageofgreenwichny.gov
SUMMARY:The Battenkill River Festival
DESCRIPTION:http://www.battenkillconservancy.org/2022-battenkill-runs-through-it-festival.html
URL:https://villageofgreenwichny.gov/event/the-battenkill-river-festival/
CATEGORIES:Event
END:VEVENT
BEGIN:VEVENT
DTSTART;TZID=America/New_York:20220527T173000
DTEND;TZID=America/New_York:20220527T183000
DTSTAMP:20260420T084936
CREATED:20220511T172316Z
LAST-MODIFIED:20220511T172317Z
UID:1372-1653672600-1653676200@villageofgreenwichny.gov
SUMMARY:Memorial Day Parade
DESCRIPTION:Annual Memorial Day Parade Sponsored by the Greenwich VFW and Greenwich American Legion \nStarting at Bridge Street\, down Main St to Abeel Ave and ending at the VFW Hall.
URL:https://villageofgreenwichny.gov/event/memorial-day-parade/
CATEGORIES:Event
END:VEVENT
BEGIN:VEVENT
DTSTART;TZID=America/New_York:20220526T150000
DTEND;TZID=America/New_York:20220526T180000
DTSTAMP:20260420T084936
CREATED:20220429T142234Z
LAST-MODIFIED:20220429T142234Z
UID:1342-1653577200-1653588000@villageofgreenwichny.gov
SUMMARY:Container Gardening Workshop for Kids
DESCRIPTION:2022 Container Gardens PDF
URL:https://villageofgreenwichny.gov/event/container-gardening-workshop-for-kids/
CATEGORIES:Event
END:VEVENT
BEGIN:VEVENT
DTSTART;TZID=America/New_York:20220517T080000
DTEND;TZID=America/New_York:20220517T200000
DTSTAMP:20260420T084936
CREATED:20220429T150611Z
LAST-MODIFIED:20220429T150611Z
UID:1353-1652774400-1652817600@villageofgreenwichny.gov
SUMMARY:Greenwich Central School Board Vote
DESCRIPTION:School Board Election May 17 8:00 am – 8:00 pm Primary School Building \nBOARD OF EDUCATION SEATS\n To elect one five-year term commencing July 1\, 2022 and expiring June 30\, 2027\, to succeed Laura\nLemoine whose term expires on June 30\, 2022.\n To elect one two–year term commencing May 18\, 2022 and expiring June 30\, 2024\, to succeed Stacy\nPerkins who vacated her position on October 14\, 2021.\n To elect a one –year term commencing May 18\, 2022 and expiring June 30\, 2023\, to succeed James Nolan\nwho vacated his position on December 22\, 2021.
URL:https://villageofgreenwichny.gov/event/greenwich-central-school-board-vote/
CATEGORIES:Event
END:VEVENT
BEGIN:VEVENT
DTSTART;TZID=America/New_York:20220514T070000
DTEND;TZID=America/New_York:20220515T160000
DTSTAMP:20260420T084936
CREATED:20220513T140513Z
LAST-MODIFIED:20220513T140513Z
UID:1381-1652511600-1652630400@villageofgreenwichny.gov
SUMMARY:Town of Greenwich Clean-Up Weekend
DESCRIPTION:Spring.Clean.Up.2022
URL:https://villageofgreenwichny.gov/event/town-of-greenwich-clean-up-weekend/
CATEGORIES:Event
END:VEVENT
BEGIN:VEVENT
DTSTART;TZID=America/New_York:20220507T093000
DTEND;TZID=America/New_York:20220507T170000
DTSTAMP:20260420T084936
CREATED:20220418T163725Z
LAST-MODIFIED:20220418T163725Z
UID:1304-1651915800-1651942800@villageofgreenwichny.gov
SUMMARY:Tour of the Battenkill Racing Event
DESCRIPTION:Get ready to challenge yourself like never before at one of America’s largest single-day road races: The Tour of the Battenkill! That’s right\, the annual “Queen of the Classics” returns to upstate New York on May 7\, 2022\, for an incredibly fun\, all-inclusive\, single-day cycling event and party. Though our Gran Fondo is our legendary distance\, you now have three events to choose from: The 75-mile Gran Fondo\, a 45-mile Medio Fondo\, and the 24-mile Piccolo Fondo. All are welcome to pick their distance\, reserve their spot\, and join the exclusive club of riders who can say they’ve ridden The Tour of the Battenkill. \n​http://tourofthebattenkill.com/
URL:https://villageofgreenwichny.gov/event/tour-of-the-battenkill-racing-event/
CATEGORIES:Event
END:VEVENT
BEGIN:VEVENT
DTSTART;TZID=America/New_York:20220418T080000
DTEND;TZID=America/New_York:20220421T170000
DTSTAMP:20260420T084936
CREATED:20220411T133339Z
LAST-MODIFIED:20220411T133423Z
UID:1293-1650268800-1650560400@villageofgreenwichny.gov
SUMMARY:Spring Clean-Up Week April 18 - 22
DESCRIPTION:https://villageofgreenwich.org/wp-content/uploads/2022/03/Ad-Spring-Clean-Up-2022.pdf
URL:https://villageofgreenwichny.gov/event/spring-clean-up-week-april-18-22/
CATEGORIES:Event
END:VEVENT
BEGIN:VEVENT
DTSTART;TZID=America/New_York:20211120T180000
DTEND;TZID=America/New_York:20211120T180000
DTSTAMP:20260420T084936
CREATED:20211102T132252Z
LAST-MODIFIED:20211102T132252Z
UID:998-1637431200-1637431200@villageofgreenwichny.gov
SUMMARY:9th Annual Holiday Lighted Tractor Parade November 20th
DESCRIPTION:https://www.greenwichtractorparade.com/
URL:https://villageofgreenwichny.gov/event/9th-annual-holiday-lighted-tractor-parade-november-20th/
LOCATION:Village of Greewnich\, 6 Academy St\, Greenwich\, NY\, 12834\, United States
CATEGORIES:Event
END:VEVENT
BEGIN:VEVENT
DTSTART;TZID=America/New_York:20210412T184500
DTEND;TZID=America/New_York:20210412T220000
DTSTAMP:20260420T084936
CREATED:20201228T192424Z
LAST-MODIFIED:20210329T194227Z
UID:590-1618253100-1618264800@villageofgreenwichny.gov
SUMMARY:Public Hearing and Annual Organizational Meeting
DESCRIPTION:Topic: Public Hearing on Local Law to Override Tax Cap and 2021/2022 Tentative Budget. Annual Meeting will start at 7:00 \nhttps://zoom.us/j/92423766563?pwd=aHhDZkFiVEYraDRtRnJYRTZ6dTR3QT09 \nMeeting ID: 924 2376 6563\nPasscode: 485095\nOne tap mobile\n(929) 205-6099
URL:https://villageofgreenwichny.gov/event/monthly-board-meeting-8/
CATEGORIES:Event,Public Hearing
END:VEVENT
BEGIN:VEVENT
DTSTART;TZID=America/New_York:20201212T140000
DTEND;TZID=America/New_York:20201212T140000
DTSTAMP:20260420T084936
CREATED:20201208T183247Z
LAST-MODIFIED:20201208T185503Z
UID:561-1607781600-1607781600@villageofgreenwichny.gov
SUMMARY:Water Project Update - Virtual Meeting December 12 @ 2:00pm
DESCRIPTION:https://global.gotomeeting.com/join/736157069 \nYou can also dial in using your phone. \n (786) 535-3211\n736157069# \nAccess Code: 736-157-069
URL:https://villageofgreenwichny.gov/event/water-project-update-virtual-meeting-december-12-200pm/
LOCATION:Online
CATEGORIES:Event
ATTACH;FMTTYPE=image/jpeg:https://villageofgreenwichny.gov/wp-content/uploads/2020/09/event-img.jpg
END:VEVENT
BEGIN:VEVENT
DTSTART;VALUE=DATE:20200801
DTEND;VALUE=DATE:20200802
DTSTAMP:20260420T084936
CREATED:20200709T184423Z
LAST-MODIFIED:20200709T184423Z
UID:387-1596240000-1596326399@villageofgreenwichny.gov
SUMMARY:Rabies Clinic
DESCRIPTION:Appointments are required. \nCall for an Appointment starting July 13\, 2020. 518-746-2400 Monday-Friday 8:30am-3:30pm \nAppointments close Thursday July 30\, 2020 or sooner if appointment slots have filled. \nMasks are required.
URL:https://villageofgreenwichny.gov/event/rabies-clinic/
LOCATION:Greenwich Town Highway Garage\, 650 Co Rd 77\, Greenwich\, NY\, 12834\, United States
CATEGORIES:Event
ATTACH;FMTTYPE=image/png:https://villageofgreenwichny.gov/wp-content/uploads/2020/07/107702804_2668628846753430_2614957469196086734_n.png
END:VEVENT
END:VCALENDAR