BEGIN:VCALENDAR
VERSION:2.0
PRODID:-//Village of Greenwich - ECPv6.0.6.2//NONSGML v1.0//EN
CALSCALE:GREGORIAN
METHOD:PUBLISH
X-ORIGINAL-URL:https://villageofgreenwichny.gov
X-WR-CALDESC:Events for Village of Greenwich
REFRESH-INTERVAL;VALUE=DURATION:PT1H
X-Robots-Tag:noindex
X-PUBLISHED-TTL:PT1H
BEGIN:VTIMEZONE
TZID:America/New_York
BEGIN:DAYLIGHT
TZOFFSETFROM:-0500
TZOFFSETTO:-0400
TZNAME:EDT
DTSTART:20250309T070000
END:DAYLIGHT
BEGIN:STANDARD
TZOFFSETFROM:-0400
TZOFFSETTO:-0500
TZNAME:EST
DTSTART:20251102T060000
END:STANDARD
END:VTIMEZONE
BEGIN:VEVENT
DTSTART;TZID=America/New_York:20251026T210000
DTEND;TZID=America/New_York:20251027T050000
DTSTAMP:20260420T195436
CREATED:20251020T154427Z
LAST-MODIFIED:20251020T154427Z
UID:2950-1761512400-1761541200@villageofgreenwichny.gov
SUMMARY:Hydrant Flushing October 26 and 27
DESCRIPTION: \n \n \n \n \n \n\n\nVillage of Greenwich DPW Will Begin\n\n\n \n\n\n\n\n \n\n\nHYDRANT FLUSHING\n\n\n \n\n\n\n\n \n\n\nFire Hydrants Will Be Flushed\n\n\nat night\n\n\nSunday into Monday October 26\n\n\n Monday into Tuesday October 27\n\n\n9:00 PM to 5:00 AM\n\n\n \n\n\n\n\n \n\n\nDiscoloration and a reduction in pressure may\n\n\nexist.  All residents are urged to check water\n\n\nbefore cooking or doing laundry and to flush\n\n\nhot water tanks after flushing is completed.\n\n\n \n\n\n\n\n \n\n\n \nMike Smith\, Supt. Of Public Works\n \n\n\n \n \n \n \n \n 
URL:https://villageofgreenwichny.gov/event/hydrant-flushing-october-26-and-27/
CATEGORIES:Event
END:VEVENT
END:VCALENDAR